BEGIN:VCALENDAR
VERSION:2.0
PRODID:-//Martinet - ECPv6.15.11//NONSGML v1.0//EN
CALSCALE:GREGORIAN
METHOD:PUBLISH
X-WR-CALNAME:Martinet
X-ORIGINAL-URL:https://www.communedemartinet.fr
X-WR-CALDESC:Évènements pour Martinet
REFRESH-INTERVAL;VALUE=DURATION:PT1H
X-Robots-Tag:noindex
X-PUBLISHED-TTL:PT1H
BEGIN:VTIMEZONE
TZID:Europe/Paris
BEGIN:DAYLIGHT
TZOFFSETFROM:+0100
TZOFFSETTO:+0200
TZNAME:CEST
DTSTART:20230326T010000
END:DAYLIGHT
BEGIN:STANDARD
TZOFFSETFROM:+0200
TZOFFSETTO:+0100
TZNAME:CET
DTSTART:20231029T010000
END:STANDARD
BEGIN:DAYLIGHT
TZOFFSETFROM:+0100
TZOFFSETTO:+0200
TZNAME:CEST
DTSTART:20240331T010000
END:DAYLIGHT
BEGIN:STANDARD
TZOFFSETFROM:+0200
TZOFFSETTO:+0100
TZNAME:CET
DTSTART:20241027T010000
END:STANDARD
BEGIN:DAYLIGHT
TZOFFSETFROM:+0100
TZOFFSETTO:+0200
TZNAME:CEST
DTSTART:20250330T010000
END:DAYLIGHT
BEGIN:STANDARD
TZOFFSETFROM:+0200
TZOFFSETTO:+0100
TZNAME:CET
DTSTART:20251026T010000
END:STANDARD
END:VTIMEZONE
BEGIN:VEVENT
DTSTART;TZID=Europe/Paris:20240613T133000
DTEND;TZID=Europe/Paris:20240613T170000
DTSTAMP:20260420T035953
CREATED:20240529T071920Z
LAST-MODIFIED:20240529T071920Z
UID:5115-1718285400-1718298000@www.communedemartinet.fr
SUMMARY:UNE MOBILITE POUR TOUS - SALLE OMNISPORT DE BEAULIEU SOUS LA ROCHE
DESCRIPTION:Un après-midi qui sera l’occasion pour les professionnels et les particuliers de venir découvrir des modes de déplacements adaptés mais aussi de pouvoir échanger sur les droits au maintien à domicile.\nCe salon a pour objectif de mettre en avant les solutions visant au maintien de l’autonomie. Cette autonomie passe évidemment par la mobilité c’est pourquoi nous souhaitons mettre en avant des solutions de déplacements adaptés aux personnes en situations de handicaps (notamment vélos adaptés) mais aussi transports solidaires et accompagnement à la marche et conseils d’ergothérapeute sur les solutions pouvant être mises en place pour faciliter le quotidien.\n \nContact: l.baizeau@cc-paysdesachards.fr OU 02 51 05 94 49
URL:https://www.communedemartinet.fr/evenement/une-mobilite-pour-tous-salle-omnisport-de-beaulieu-sous-la-roche/
CATEGORIES:Conférence
END:VEVENT
BEGIN:VEVENT
DTSTART;TZID=Europe/Paris:20240621T193000
DTEND;TZID=Europe/Paris:20240621T193000
DTSTAMP:20260420T035953
CREATED:20240614T105808Z
LAST-MODIFIED:20240614T105808Z
UID:5134-1718998200-1718998200@www.communedemartinet.fr
SUMMARY:Fête de la musique au Bar Bu
DESCRIPTION:Le BAR BU organise la fête de la musique le VENDREDI 21 JUIN à partir de 19h30. \nMusique et bar sur place🎶 \nVente de Grillades sur place par l’association du foot de MARTINET \nVenez nombreux.
URL:https://www.communedemartinet.fr/evenement/fete-de-la-musique-au-bar-bu/
LOCATION:BAR BU 8 Rue du Jaunay
CATEGORIES:Fêtes
END:VEVENT
BEGIN:VEVENT
DTSTART;TZID=Europe/Paris:20240629T080000
DTEND;TZID=Europe/Paris:20240629T123000
DTSTAMP:20260420T035953
CREATED:20240614T111021Z
LAST-MODIFIED:20240628T092121Z
UID:5140-1719648000-1719664200@www.communedemartinet.fr
SUMMARY:IRONMAN
DESCRIPTION:En raison de la course IRONMAN\nSAMEDI 29 juin de 8h00 à 12h30 ROUTES BARRÉES À MARTINET. Merci de prendre vos dispositions.\n 
URL:https://www.communedemartinet.fr/evenement/ironman/
ATTACH;FMTTYPE=image/jpeg:https://www.communedemartinet.fr:443/content/uploads/2024/04/Route-barree.jpg
END:VEVENT
END:VCALENDAR