BEGIN:VCALENDAR
VERSION:2.0
PRODID:-//Martinet - ECPv6.15.11//NONSGML v1.0//EN
CALSCALE:GREGORIAN
METHOD:PUBLISH
X-WR-CALNAME:Martinet
X-ORIGINAL-URL:https://www.communedemartinet.fr
X-WR-CALDESC:Évènements pour Martinet
REFRESH-INTERVAL;VALUE=DURATION:PT1H
X-Robots-Tag:noindex
X-PUBLISHED-TTL:PT1H
BEGIN:VTIMEZONE
TZID:Europe/Paris
BEGIN:DAYLIGHT
TZOFFSETFROM:+0100
TZOFFSETTO:+0200
TZNAME:CEST
DTSTART:20230326T010000
END:DAYLIGHT
BEGIN:STANDARD
TZOFFSETFROM:+0200
TZOFFSETTO:+0100
TZNAME:CET
DTSTART:20231029T010000
END:STANDARD
BEGIN:DAYLIGHT
TZOFFSETFROM:+0100
TZOFFSETTO:+0200
TZNAME:CEST
DTSTART:20240331T010000
END:DAYLIGHT
BEGIN:STANDARD
TZOFFSETFROM:+0200
TZOFFSETTO:+0100
TZNAME:CET
DTSTART:20241027T010000
END:STANDARD
BEGIN:DAYLIGHT
TZOFFSETFROM:+0100
TZOFFSETTO:+0200
TZNAME:CEST
DTSTART:20250330T010000
END:DAYLIGHT
BEGIN:STANDARD
TZOFFSETFROM:+0200
TZOFFSETTO:+0100
TZNAME:CET
DTSTART:20251026T010000
END:STANDARD
END:VTIMEZONE
BEGIN:VEVENT
DTSTART;TZID=Europe/Paris:20240522T000000
DTEND;TZID=Europe/Paris:20240531T000000
DTSTAMP:20260419T230334
CREATED:20240522T075902Z
LAST-MODIFIED:20240522T075902Z
UID:5084-1716336000-1717113600@www.communedemartinet.fr
SUMMARY:VENTE DE GÂTEAUX "BIJOU"
DESCRIPTION:L’association APEL de l’école de MARTINET organise une vente de gâteaux « BIJOU » \nIl y a possibilité de commander : \n-via le lien suivant : https://www.helloasso.com/associations/apel-martinet/evenements/vente-de-madeleine-bijou \n– sur bons de commande papier disponibles au Bar BU \nLes commandes sont à passer au plus tard le vendredi 31 mai  et les gateaux seront à récuperer le mercredi 19 juin dans la cour de l’école de 17h à 19h. \nSi ce n’est pas possible\, merci de nous prévenir apel.martinet@gmail.com \nLes membres de l’association tiennent à remercier Mathieu du Bar Bu pour son aide.
URL:https://www.communedemartinet.fr/evenement/vente-de-gateaux-bijou/
CATEGORIES:Animations
ATTACH;FMTTYPE=image/jpeg:https://www.communedemartinet.fr:443/content/uploads/2021/01/APEL.jpg
END:VEVENT
BEGIN:VEVENT
DTSTART;TZID=Europe/Paris:20240525T000000
DTEND;TZID=Europe/Paris:20240526T000000
DTSTAMP:20260419T230334
CREATED:20240522T075502Z
LAST-MODIFIED:20240522T080711Z
UID:5076-1716595200-1716681600@www.communedemartinet.fr
SUMMARY:GALA DANSE - COMPLET LE SAMEDI SOIR-
DESCRIPTION:Organisé par Alors On danse. \nSpectacle complet le samedi soir. \nPour le dimanche : réservation en cliquant sur le lien suivant :  https://www.helloasso.com/associations/familles-rurales-martinet/evenements/gala-de-danse-martinet \n 
URL:https://www.communedemartinet.fr/evenement/gala-danse-complet-le-samedi-soir/
LOCATION:Salle polyvalente de MARTINET
CATEGORIES:Spectacles
ATTACH;FMTTYPE=image/png:https://www.communedemartinet.fr:443/content/uploads/2024/05/Gala-de-danse-2024_20240429_155036_0000-1-e1716364491571.png
END:VEVENT
BEGIN:VEVENT
DTSTART;TZID=Europe/Paris:20240531T190000
DTEND;TZID=Europe/Paris:20240531T233000
DTSTAMP:20260419T230334
CREATED:20240504T074012Z
LAST-MODIFIED:20240504T074053Z
UID:5060-1717182000-1717198200@www.communedemartinet.fr
SUMMARY:SORTIE VÉLO SEMI-NOCTURNE - Vendredi 31 mai à partir de 19h00
DESCRIPTION:SORTIE VÉLO SEMI-NOCTURNE\nVenez découvrir une partie de l’itinéraire Vendée Vélo en rejoignant la Baudrière\, sur les bords du Lac du Jaunay.\nUne sortie en semi-nocturne encadrée par Vincent Guilet de « En équilibre » : https://www.facebook.com/christophe.guilet.\nUne occasion ludique de faire le point sur vos éclairages et apprendre comment bien se positionner.\nLe programme de la soirée :\nRendez-vous à 19h au Fief des Rainettes à Saint-Julien-Des-Landes pour un 1er temps de vérification des vélos\, notamment des éclairages. Départ à 19h30 en direction de la Baudrière\, via l’itinéraire de Vendée Vélo puis un temps convivial avec un pique-nique au coucher du soleil sur les bords du Lac du Januay et à 21h30\, départ de la Baudrière pour le retour à Saint-Julien-des-Landes.\nTarif de la sortie : 5€ / personne. Il comprend un kit d’accueil et l’apéritif.\nLe pique-nique est participatif\, à chacun d’emmener sa part.\nLes conditions demandées par le prestataire pour participer :\n– Être âgé-e de + de 12 ans et être autonome pour les déplacements à vélo sur voie ouverte.\n– Avoir des lumières suffisamment puissantes (300 lumens à l’avant et 25 lumens « clignotant » à l’arrière)\n– Gilet jaune réfléchissant.\n– Casque .\n– Un vélo en bon état de fonctionnement (pneus gonflés\, freins en bon état)\nLes options possibles :\nRéserver un kit lumières adapté à l’usage du vélo de nuit que le prestataire installera à votre arrivée à 19h.\nMontant du kit : 39€.\nréservations à L’office de tourisme du Pays des Achards.
URL:https://www.communedemartinet.fr/evenement/sortie-velo-semi-nocturne-vendredi-31-mai-a-partir-de-19h00/
CATEGORIES:Animations
END:VEVENT
END:VCALENDAR