BEGIN:VCALENDAR
VERSION:2.0
PRODID:-//Martinet - ECPv6.15.11//NONSGML v1.0//EN
CALSCALE:GREGORIAN
METHOD:PUBLISH
X-ORIGINAL-URL:https://www.communedemartinet.fr
X-WR-CALDESC:Évènements pour Martinet
REFRESH-INTERVAL;VALUE=DURATION:PT1H
X-Robots-Tag:noindex
X-PUBLISHED-TTL:PT1H
BEGIN:VTIMEZONE
TZID:Europe/Paris
BEGIN:DAYLIGHT
TZOFFSETFROM:+0100
TZOFFSETTO:+0200
TZNAME:CEST
DTSTART:20230326T010000
END:DAYLIGHT
BEGIN:STANDARD
TZOFFSETFROM:+0200
TZOFFSETTO:+0100
TZNAME:CET
DTSTART:20231029T010000
END:STANDARD
BEGIN:DAYLIGHT
TZOFFSETFROM:+0100
TZOFFSETTO:+0200
TZNAME:CEST
DTSTART:20240331T010000
END:DAYLIGHT
BEGIN:STANDARD
TZOFFSETFROM:+0200
TZOFFSETTO:+0100
TZNAME:CET
DTSTART:20241027T010000
END:STANDARD
BEGIN:DAYLIGHT
TZOFFSETFROM:+0100
TZOFFSETTO:+0200
TZNAME:CEST
DTSTART:20250330T010000
END:DAYLIGHT
BEGIN:STANDARD
TZOFFSETFROM:+0200
TZOFFSETTO:+0100
TZNAME:CET
DTSTART:20251026T010000
END:STANDARD
END:VTIMEZONE
BEGIN:VEVENT
DTSTART;TZID=Europe/Paris:20240629T080000
DTEND;TZID=Europe/Paris:20240629T123000
DTSTAMP:20260420T082016
CREATED:20240614T111021Z
LAST-MODIFIED:20240628T092121Z
UID:5140-1719648000-1719664200@www.communedemartinet.fr
SUMMARY:IRONMAN
DESCRIPTION:En raison de la course IRONMAN\nSAMEDI 29 juin de 8h00 à 12h30 ROUTES BARRÉES À MARTINET. Merci de prendre vos dispositions.\n 
URL:https://www.communedemartinet.fr/evenement/ironman/
ATTACH;FMTTYPE=image/jpeg:https://www.communedemartinet.fr:443/content/uploads/2024/04/Route-barree.jpg
END:VEVENT
END:VCALENDAR