BEGIN:VCALENDAR
VERSION:2.0
PRODID:-//Martinet - ECPv6.15.11//NONSGML v1.0//EN
CALSCALE:GREGORIAN
METHOD:PUBLISH
X-WR-CALNAME:Martinet
X-ORIGINAL-URL:https://www.communedemartinet.fr
X-WR-CALDESC:Évènements pour Martinet
REFRESH-INTERVAL;VALUE=DURATION:PT1H
X-Robots-Tag:noindex
X-PUBLISHED-TTL:PT1H
BEGIN:VTIMEZONE
TZID:Europe/Paris
BEGIN:DAYLIGHT
TZOFFSETFROM:+0100
TZOFFSETTO:+0200
TZNAME:CEST
DTSTART:20230326T010000
END:DAYLIGHT
BEGIN:STANDARD
TZOFFSETFROM:+0200
TZOFFSETTO:+0100
TZNAME:CET
DTSTART:20231029T010000
END:STANDARD
BEGIN:DAYLIGHT
TZOFFSETFROM:+0100
TZOFFSETTO:+0200
TZNAME:CEST
DTSTART:20240331T010000
END:DAYLIGHT
BEGIN:STANDARD
TZOFFSETFROM:+0200
TZOFFSETTO:+0100
TZNAME:CET
DTSTART:20241027T010000
END:STANDARD
BEGIN:DAYLIGHT
TZOFFSETFROM:+0100
TZOFFSETTO:+0200
TZNAME:CEST
DTSTART:20250330T010000
END:DAYLIGHT
BEGIN:STANDARD
TZOFFSETFROM:+0200
TZOFFSETTO:+0100
TZNAME:CET
DTSTART:20251026T010000
END:STANDARD
END:VTIMEZONE
BEGIN:VEVENT
DTSTART;TZID=Europe/Paris:20240531T190000
DTEND;TZID=Europe/Paris:20240531T233000
DTSTAMP:20260420T035429
CREATED:20240504T074012Z
LAST-MODIFIED:20240504T074053Z
UID:5060-1717182000-1717198200@www.communedemartinet.fr
SUMMARY:SORTIE VÉLO SEMI-NOCTURNE - Vendredi 31 mai à partir de 19h00
DESCRIPTION:SORTIE VÉLO SEMI-NOCTURNE\nVenez découvrir une partie de l’itinéraire Vendée Vélo en rejoignant la Baudrière\, sur les bords du Lac du Jaunay.\nUne sortie en semi-nocturne encadrée par Vincent Guilet de « En équilibre » : https://www.facebook.com/christophe.guilet.\nUne occasion ludique de faire le point sur vos éclairages et apprendre comment bien se positionner.\nLe programme de la soirée :\nRendez-vous à 19h au Fief des Rainettes à Saint-Julien-Des-Landes pour un 1er temps de vérification des vélos\, notamment des éclairages. Départ à 19h30 en direction de la Baudrière\, via l’itinéraire de Vendée Vélo puis un temps convivial avec un pique-nique au coucher du soleil sur les bords du Lac du Januay et à 21h30\, départ de la Baudrière pour le retour à Saint-Julien-des-Landes.\nTarif de la sortie : 5€ / personne. Il comprend un kit d’accueil et l’apéritif.\nLe pique-nique est participatif\, à chacun d’emmener sa part.\nLes conditions demandées par le prestataire pour participer :\n– Être âgé-e de + de 12 ans et être autonome pour les déplacements à vélo sur voie ouverte.\n– Avoir des lumières suffisamment puissantes (300 lumens à l’avant et 25 lumens « clignotant » à l’arrière)\n– Gilet jaune réfléchissant.\n– Casque .\n– Un vélo en bon état de fonctionnement (pneus gonflés\, freins en bon état)\nLes options possibles :\nRéserver un kit lumières adapté à l’usage du vélo de nuit que le prestataire installera à votre arrivée à 19h.\nMontant du kit : 39€.\nréservations à L’office de tourisme du Pays des Achards.
URL:https://www.communedemartinet.fr/evenement/sortie-velo-semi-nocturne-vendredi-31-mai-a-partir-de-19h00/
CATEGORIES:Animations
END:VEVENT
END:VCALENDAR